Package: tidySingleCellExperiment Version: 1.21.0 Command: rm -rf tidySingleCellExperiment.buildbin-libdir && mkdir tidySingleCellExperiment.buildbin-libdir && /Users/biocbuild/BBS/utils/build-universal.sh tidySingleCellExperiment_1.21.0.tar.gz /Library/Frameworks/R.framework/Resources/bin/R tidySingleCellExperiment.buildbin-libdir StartedAt: 2025-11-19 23:56:15 -0500 (Wed, 19 Nov 2025) EndedAt: 2025-11-19 23:56:30 -0500 (Wed, 19 Nov 2025) EllapsedTime: 15.3 seconds RetCode: 0 Status: OK PackageFile: tidySingleCellExperiment_1.21.0.tgz PackageFileSize: 1.531 MiB