Package: tidySingleCellExperiment Version: 1.21.0 Command: /Library/Frameworks/R.framework/Resources/bin/R CMD build --keep-empty-dirs --no-resave-data tidySingleCellExperiment StartedAt: 2025-11-19 17:56:25 -0500 (Wed, 19 Nov 2025) EndedAt: 2025-11-19 17:57:07 -0500 (Wed, 19 Nov 2025) EllapsedTime: 42.5 seconds RetCode: 0 Status: OK PackageFile: tidySingleCellExperiment_1.21.0.tar.gz PackageFileSize: 1.205 MiB