Package: tidySingleCellExperiment Version: 1.21.0 Command: /Library/Frameworks/R.framework/Resources/bin/R CMD INSTALL tidySingleCellExperiment StartedAt: 2025-11-19 15:14:06 -0500 (Wed, 19 Nov 2025) EndedAt: 2025-11-19 15:14:17 -0500 (Wed, 19 Nov 2025) EllapsedTime: 11.1 seconds RetCode: 0 Status: OK