Package: tidySingleCellExperiment Version: 1.21.0 Command: rm -rf tidySingleCellExperiment.buildbin-libdir && mkdir tidySingleCellExperiment.buildbin-libdir && /Users/biocbuild/BBS/utils/build-universal.sh tidySingleCellExperiment_1.21.0.tar.gz /Library/Frameworks/R.framework/Resources/bin/R tidySingleCellExperiment.buildbin-libdir StartedAt: 2025-11-21 02:01:37 -0500 (Fri, 21 Nov 2025) EndedAt: 2025-11-21 02:02:20 -0500 (Fri, 21 Nov 2025) EllapsedTime: 42.8 seconds RetCode: 0 Status: OK PackageFile: tidySingleCellExperiment_1.21.0.tgz PackageFileSize: 1.531 MiB