Package: tidySingleCellExperiment Version: 1.21.0 Command: /Library/Frameworks/R.framework/Resources/bin/R CMD INSTALL tidySingleCellExperiment StartedAt: 2025-11-20 15:26:05 -0500 (Thu, 20 Nov 2025) EndedAt: 2025-11-20 15:26:45 -0500 (Thu, 20 Nov 2025) EllapsedTime: 40.7 seconds RetCode: 0 Status: OK