Package: tidySingleCellExperiment Version: 1.21.0 Command: /home/biocbuild/bbs-3.23-bioc/R/bin/R CMD build --keep-empty-dirs --no-resave-data tidySingleCellExperiment StartedAt: 2025-11-19 20:32:41 -0500 (Wed, 19 Nov 2025) EndedAt: 2025-11-19 20:34:07 -0500 (Wed, 19 Nov 2025) EllapsedTime: 86.1 seconds RetCode: 0 Status: OK PackageFile: tidySingleCellExperiment_1.21.0.tar.gz PackageFileSize: 1.125 MiB