Package: tidySingleCellExperiment Version: 1.21.0 Command: /home/biocbuild/bbs-3.23-bioc/R/bin/R CMD INSTALL tidySingleCellExperiment StartedAt: 2025-11-20 15:19:18 -0500 (Thu, 20 Nov 2025) EndedAt: 2025-11-20 15:19:46 -0500 (Thu, 20 Nov 2025) EllapsedTime: 28.3 seconds RetCode: 0 Status: OK