Package: tidySpatialExperiment Version: 1.7.1 Command: rm -rf tidySpatialExperiment.buildbin-libdir && mkdir tidySpatialExperiment.buildbin-libdir && /Users/biocbuild/BBS/utils/build-universal.sh tidySpatialExperiment_1.7.1.tar.gz /Library/Frameworks/R.framework/Resources/bin/R tidySpatialExperiment.buildbin-libdir StartedAt: 2025-11-19 23:56:16 -0500 (Wed, 19 Nov 2025) EndedAt: 2025-11-19 23:56:31 -0500 (Wed, 19 Nov 2025) EllapsedTime: 15.4 seconds RetCode: 0 Status: OK PackageFile: tidySpatialExperiment_1.7.1.tgz PackageFileSize: 2.875 MiB