Package: tidySpatialExperiment Version: 1.7.1 Command: rm -rf tidySpatialExperiment.buildbin-libdir && mkdir tidySpatialExperiment.buildbin-libdir && /Users/biocbuild/BBS/utils/build-universal.sh tidySpatialExperiment_1.7.1.tar.gz /Library/Frameworks/R.framework/Resources/bin/R tidySpatialExperiment.buildbin-libdir StartedAt: 2025-11-20 02:00:55 -0500 (Thu, 20 Nov 2025) EndedAt: 2025-11-20 02:01:40 -0500 (Thu, 20 Nov 2025) EllapsedTime: 45.0 seconds RetCode: 0 Status: OK PackageFile: tidySpatialExperiment_1.7.1.tgz PackageFileSize: 2.873 MiB