Package: tidySpatialExperiment Version: 1.7.1 Command: /Library/Frameworks/R.framework/Resources/bin/R CMD build --keep-empty-dirs --no-resave-data tidySpatialExperiment StartedAt: 2025-11-18 18:58:23 -0500 (Tue, 18 Nov 2025) EndedAt: 2025-11-18 18:59:29 -0500 (Tue, 18 Nov 2025) EllapsedTime: 65.6 seconds RetCode: 0 Status: OK PackageFile: tidySpatialExperiment_1.7.1.tar.gz PackageFileSize: 4.303 MiB