Package: tidySpatialExperiment Version: 1.7.1 Command: /Library/Frameworks/R.framework/Resources/bin/R CMD INSTALL tidySpatialExperiment StartedAt: 2025-11-18 15:26:56 -0500 (Tue, 18 Nov 2025) EndedAt: 2025-11-18 15:27:36 -0500 (Tue, 18 Nov 2025) EllapsedTime: 40.3 seconds RetCode: 0 Status: OK