Package: tidySpatialExperiment Version: 1.7.1 Command: /home/biocbuild/bbs-3.23-bioc/R/bin/R CMD INSTALL tidySpatialExperiment StartedAt: 2025-11-18 16:15:40 -0500 (Tue, 18 Nov 2025) EndedAt: 2025-11-18 16:16:09 -0500 (Tue, 18 Nov 2025) EllapsedTime: 28.3 seconds RetCode: 0 Status: OK