Package: tidySummarizedExperiment Version: 1.21.0 Command: /Library/Frameworks/R.framework/Resources/bin/R CMD INSTALL tidySummarizedExperiment StartedAt: 2025-11-19 15:20:02 -0500 (Wed, 19 Nov 2025) EndedAt: 2025-11-19 15:20:13 -0500 (Wed, 19 Nov 2025) EllapsedTime: 10.8 seconds RetCode: 0 Status: OK