Package: tidySummarizedExperiment Version: 1.21.0 Command: rm -rf tidySummarizedExperiment.buildbin-libdir && mkdir tidySummarizedExperiment.buildbin-libdir && /Users/biocbuild/BBS/utils/build-universal.sh tidySummarizedExperiment_1.21.0.tar.gz /Library/Frameworks/R.framework/Resources/bin/R tidySummarizedExperiment.buildbin-libdir StartedAt: 2025-11-20 02:00:56 -0500 (Thu, 20 Nov 2025) EndedAt: 2025-11-20 02:01:37 -0500 (Thu, 20 Nov 2025) EllapsedTime: 41.5 seconds RetCode: 0 Status: OK PackageFile: tidySummarizedExperiment_1.21.0.tgz PackageFileSize: 576.6 KiB