Package: tidySummarizedExperiment Version: 1.21.0 Command: /Library/Frameworks/R.framework/Resources/bin/R CMD build --keep-empty-dirs --no-resave-data tidySummarizedExperiment StartedAt: 2025-11-19 19:01:35 -0500 (Wed, 19 Nov 2025) EndedAt: 2025-11-19 19:02:27 -0500 (Wed, 19 Nov 2025) EllapsedTime: 51.8 seconds RetCode: 0 Status: OK PackageFile: tidySummarizedExperiment_1.21.0.tar.gz PackageFileSize: 396.4 KiB