Package: tidySummarizedExperiment Version: 1.21.0 Command: /Library/Frameworks/R.framework/Resources/bin/R CMD INSTALL tidySummarizedExperiment StartedAt: 2025-11-19 15:36:28 -0500 (Wed, 19 Nov 2025) EndedAt: 2025-11-19 15:37:07 -0500 (Wed, 19 Nov 2025) EllapsedTime: 38.3 seconds RetCode: 0 Status: OK