Package: tidySummarizedExperiment Version: 1.21.0 Command: /home/biocbuild/bbs-3.23-bioc/R/bin/R CMD build --keep-empty-dirs --no-resave-data tidySummarizedExperiment StartedAt: 2025-11-19 20:32:44 -0500 (Wed, 19 Nov 2025) EndedAt: 2025-11-19 20:33:25 -0500 (Wed, 19 Nov 2025) EllapsedTime: 41.0 seconds RetCode: 0 Status: OK PackageFile: tidySummarizedExperiment_1.21.0.tar.gz PackageFileSize: 387.4 KiB