Package: tidySummarizedExperiment Version: 1.21.0 Command: /home/biocbuild/bbs-3.23-bioc/R/bin/R CMD INSTALL tidySummarizedExperiment StartedAt: 2025-11-19 15:38:04 -0500 (Wed, 19 Nov 2025) EndedAt: 2025-11-19 15:38:31 -0500 (Wed, 19 Nov 2025) EllapsedTime: 27.5 seconds RetCode: 0 Status: OK