Package: tidybulk Version: 2.1.0 Command: rm -rf tidybulk.buildbin-libdir && mkdir tidybulk.buildbin-libdir && /Users/biocbuild/BBS/utils/build-universal.sh tidybulk_2.1.0.tar.gz /Library/Frameworks/R.framework/Resources/bin/R tidybulk.buildbin-libdir StartedAt: 2025-11-19 23:56:09 -0500 (Wed, 19 Nov 2025) EndedAt: 2025-11-19 23:56:25 -0500 (Wed, 19 Nov 2025) EllapsedTime: 16.3 seconds RetCode: 0 Status: OK PackageFile: tidybulk_2.1.0.tgz PackageFileSize: 5.377 MiB