Package: tidybulk Version: 2.1.0 Command: /Library/Frameworks/R.framework/Resources/bin/R CMD build --keep-empty-dirs --no-resave-data tidybulk StartedAt: 2025-11-19 17:56:04 -0500 (Wed, 19 Nov 2025) EndedAt: 2025-11-19 18:02:55 -0500 (Wed, 19 Nov 2025) EllapsedTime: 410.8 seconds RetCode: 0 Status: OK PackageFile: tidybulk_2.1.0.tar.gz PackageFileSize: 4.998 MiB