Package: tidybulk Version: 2.1.0 Command: /Library/Frameworks/R.framework/Resources/bin/R CMD INSTALL tidybulk StartedAt: 2025-11-18 15:26:07 -0500 (Tue, 18 Nov 2025) EndedAt: 2025-11-18 15:26:20 -0500 (Tue, 18 Nov 2025) EllapsedTime: 13.0 seconds RetCode: 0 Status: OK