Package: tidybulk Version: 2.1.0 Command: rm -rf tidybulk.buildbin-libdir && mkdir tidybulk.buildbin-libdir && /Users/biocbuild/BBS/utils/build-universal.sh tidybulk_2.1.0.tar.gz /Library/Frameworks/R.framework/Resources/bin/R tidybulk.buildbin-libdir StartedAt: 2025-11-20 02:00:49 -0500 (Thu, 20 Nov 2025) EndedAt: 2025-11-20 02:01:40 -0500 (Thu, 20 Nov 2025) EllapsedTime: 50.7 seconds RetCode: 0 Status: OK PackageFile: tidybulk_2.1.0.tgz PackageFileSize: 5.371 MiB