Package: tidybulk Version: 2.1.0 Command: /Library/Frameworks/R.framework/Resources/bin/R CMD build --keep-empty-dirs --no-resave-data tidybulk StartedAt: 2025-11-19 19:00:54 -0500 (Wed, 19 Nov 2025) EndedAt: 2025-11-19 19:16:49 -0500 (Wed, 19 Nov 2025) EllapsedTime: 955.1 seconds RetCode: 0 Status: OK PackageFile: tidybulk_2.1.0.tar.gz PackageFileSize: 4.994 MiB