Package: tidybulk Version: 2.1.0 Command: /Library/Frameworks/R.framework/Resources/bin/R CMD INSTALL tidybulk StartedAt: 2025-11-18 15:29:59 -0500 (Tue, 18 Nov 2025) EndedAt: 2025-11-18 15:30:45 -0500 (Tue, 18 Nov 2025) EllapsedTime: 45.7 seconds RetCode: 0 Status: OK