Package: tidybulk Version: 2.1.0 Command: /home/biocbuild/bbs-3.23-bioc/R/bin/R CMD build --keep-empty-dirs --no-resave-data tidybulk StartedAt: 2025-11-19 20:31:39 -0500 (Wed, 19 Nov 2025) EndedAt: 2025-11-19 20:49:22 -0500 (Wed, 19 Nov 2025) EllapsedTime: 1063.0 seconds RetCode: 0 Status: OK PackageFile: tidybulk_2.1.0.tar.gz PackageFileSize: 4.738 MiB