Package: tidybulk Version: 2.1.0 Command: /home/biocbuild/bbs-3.23-bioc/R/bin/R CMD INSTALL tidybulk StartedAt: 2025-11-18 16:17:49 -0500 (Tue, 18 Nov 2025) EndedAt: 2025-11-18 16:18:22 -0500 (Tue, 18 Nov 2025) EllapsedTime: 33.0 seconds RetCode: 0 Status: OK