Package: tidyomics Version: 1.7.0 Command: /Library/Frameworks/R.framework/Resources/bin/R CMD INSTALL tidyomics StartedAt: 2025-11-18 15:29:26 -0500 (Tue, 18 Nov 2025) EndedAt: 2025-11-18 15:29:40 -0500 (Tue, 18 Nov 2025) EllapsedTime: 14.2 seconds RetCode: 0 Status: OK