Package: tidyomics Version: 1.7.0 Command: rm -rf tidyomics.buildbin-libdir && mkdir tidyomics.buildbin-libdir && /Users/biocbuild/BBS/utils/build-universal.sh tidyomics_1.7.0.tar.gz /Library/Frameworks/R.framework/Resources/bin/R tidyomics.buildbin-libdir StartedAt: 2025-11-20 02:00:52 -0500 (Thu, 20 Nov 2025) EndedAt: 2025-11-20 02:01:42 -0500 (Thu, 20 Nov 2025) EllapsedTime: 49.7 seconds RetCode: 0 Status: OK PackageFile: tidyomics_1.7.0.tgz PackageFileSize: 74.57 KiB