Package: tidyomics Version: 1.7.0 Command: /Library/Frameworks/R.framework/Resources/bin/R CMD build --keep-empty-dirs --no-resave-data tidyomics StartedAt: 2025-11-19 19:01:04 -0500 (Wed, 19 Nov 2025) EndedAt: 2025-11-19 19:01:45 -0500 (Wed, 19 Nov 2025) EllapsedTime: 41.1 seconds RetCode: 0 Status: OK PackageFile: tidyomics_1.7.0.tar.gz PackageFileSize: 56.35 KiB