Package: tidyomics Version: 1.7.0 Command: /home/biocbuild/bbs-3.23-bioc/R/bin/R CMD build --keep-empty-dirs --no-resave-data tidyomics StartedAt: 2025-11-19 20:32:23 -0500 (Wed, 19 Nov 2025) EndedAt: 2025-11-19 20:32:57 -0500 (Wed, 19 Nov 2025) EllapsedTime: 34.0 seconds RetCode: 0 Status: OK PackageFile: tidyomics_1.7.0.tar.gz PackageFileSize: 56.47 KiB