Package: tidytof Version: 1.5.0 Command: rm -rf tidytof.buildbin-libdir && mkdir tidytof.buildbin-libdir && /Users/biocbuild/BBS/utils/build-universal.sh tidytof_1.5.0.tar.gz /Library/Frameworks/R.framework/Resources/bin/R tidytof.buildbin-libdir StartedAt: 2025-11-19 23:56:16 -0500 (Wed, 19 Nov 2025) EndedAt: 2025-11-19 23:56:30 -0500 (Wed, 19 Nov 2025) EllapsedTime: 14.3 seconds RetCode: 0 Status: OK PackageFile: tidytof_1.5.0.tgz PackageFileSize: 3.209 MiB