Package: tilingArray Version: 1.89.0 Command: /Library/Frameworks/R.framework/Resources/bin/R CMD INSTALL tilingArray StartedAt: 2025-11-19 15:29:40 -0500 (Wed, 19 Nov 2025) EndedAt: 2025-11-19 15:29:50 -0500 (Wed, 19 Nov 2025) EllapsedTime: 9.8 seconds RetCode: 0 Status: OK