Package: tilingArray Version: 1.89.0 Command: rm -rf tilingArray.buildbin-libdir && mkdir tilingArray.buildbin-libdir && /Users/biocbuild/BBS/utils/build-universal.sh tilingArray_1.89.0.tar.gz /Library/Frameworks/R.framework/Resources/bin/R tilingArray.buildbin-libdir StartedAt: 2025-11-20 02:01:01 -0500 (Thu, 20 Nov 2025) EndedAt: 2025-11-20 02:01:40 -0500 (Thu, 20 Nov 2025) EllapsedTime: 39.2 seconds RetCode: 0 Status: OK PackageFile: tilingArray_1.89.0.tgz PackageFileSize: 3.878 MiB