Package: tilingArray Version: 1.89.0 Command: /Library/Frameworks/R.framework/Resources/bin/R CMD build --keep-empty-dirs --no-resave-data tilingArray StartedAt: 2025-11-19 19:02:00 -0500 (Wed, 19 Nov 2025) EndedAt: 2025-11-19 19:02:51 -0500 (Wed, 19 Nov 2025) EllapsedTime: 50.7 seconds RetCode: 0 Status: OK PackageFile: tilingArray_1.89.0.tar.gz PackageFileSize: 3.487 MiB