Package: tilingArray Version: 1.89.0 Command: /Library/Frameworks/R.framework/Resources/bin/R CMD INSTALL tilingArray StartedAt: 2025-11-19 15:52:02 -0500 (Wed, 19 Nov 2025) EndedAt: 2025-11-19 15:52:38 -0500 (Wed, 19 Nov 2025) EllapsedTime: 35.7 seconds RetCode: 0 Status: OK