Package: tilingArray Version: 1.89.0 Command: /home/biocbuild/bbs-3.23-bioc/R/bin/R CMD INSTALL tilingArray StartedAt: 2025-11-19 16:00:13 -0500 (Wed, 19 Nov 2025) EndedAt: 2025-11-19 16:00:38 -0500 (Wed, 19 Nov 2025) EllapsedTime: 24.8 seconds RetCode: 0 Status: OK