Package: transcriptogramer Version: 1.33.0 Command: rm -rf transcriptogramer.buildbin-libdir && mkdir transcriptogramer.buildbin-libdir && /Users/biocbuild/BBS/utils/build-universal.sh transcriptogramer_1.33.0.tar.gz /Library/Frameworks/R.framework/Resources/bin/R transcriptogramer.buildbin-libdir StartedAt: 2025-11-19 00:03:26 -0500 (Wed, 19 Nov 2025) EndedAt: 2025-11-19 00:03:39 -0500 (Wed, 19 Nov 2025) EllapsedTime: 13.3 seconds RetCode: 0 Status: OK PackageFile: transcriptogramer_1.33.0.tgz PackageFileSize: 5.452 MiB