Package: treeclimbR Version: 1.7.0 Command: rm -rf treeclimbR.buildbin-libdir && mkdir treeclimbR.buildbin-libdir && /Users/biocbuild/BBS/utils/build-universal.sh treeclimbR_1.7.0.tar.gz /Library/Frameworks/R.framework/Resources/bin/R treeclimbR.buildbin-libdir StartedAt: 2025-11-19 01:57:36 -0500 (Wed, 19 Nov 2025) EndedAt: 2025-11-19 01:58:32 -0500 (Wed, 19 Nov 2025) EllapsedTime: 56.4 seconds RetCode: 0 Status: OK PackageFile: treeclimbR_1.7.0.tgz PackageFileSize: 892.4 KiB