Package: treeclimbR Version: 1.7.0 Command: /Library/Frameworks/R.framework/Resources/bin/R CMD build --keep-empty-dirs --no-resave-data treeclimbR StartedAt: 2025-11-18 19:01:26 -0500 (Tue, 18 Nov 2025) EndedAt: 2025-11-18 19:02:42 -0500 (Tue, 18 Nov 2025) EllapsedTime: 76.6 seconds RetCode: 0 Status: OK PackageFile: treeclimbR_1.7.0.tar.gz PackageFileSize: 744.8 KiB