Package: treeclimbR Version: 1.7.0 Command: /Library/Frameworks/R.framework/Resources/bin/R CMD INSTALL treeclimbR StartedAt: 2025-11-18 15:31:26 -0500 (Tue, 18 Nov 2025) EndedAt: 2025-11-18 15:32:18 -0500 (Tue, 18 Nov 2025) EllapsedTime: 52.0 seconds RetCode: 0 Status: OK