Package: treeclimbR Version: 1.7.0 Command: /home/biocbuild/bbs-3.23-bioc/R/bin/R CMD INSTALL treeclimbR StartedAt: 2025-11-21 15:32:42 -0500 (Fri, 21 Nov 2025) EndedAt: 2025-11-21 15:33:20 -0500 (Fri, 21 Nov 2025) EllapsedTime: 37.8 seconds RetCode: 0 Status: OK