Package: treeio Version: 1.35.0 Command: rm -rf treeio.buildbin-libdir && mkdir treeio.buildbin-libdir && /Users/biocbuild/BBS/utils/build-universal.sh treeio_1.35.0.tar.gz /Library/Frameworks/R.framework/Resources/bin/R treeio.buildbin-libdir StartedAt: 2025-11-19 23:56:50 -0500 (Wed, 19 Nov 2025) EndedAt: 2025-11-19 23:56:54 -0500 (Wed, 19 Nov 2025) EllapsedTime: 4.1 seconds RetCode: 0 Status: OK PackageFile: treeio_1.35.0.tgz PackageFileSize: 913.3 KiB