Package: treeio Version: 1.35.0 Command: /Library/Frameworks/R.framework/Resources/bin/R CMD build --keep-empty-dirs --no-resave-data treeio StartedAt: 2025-11-19 17:59:56 -0500 (Wed, 19 Nov 2025) EndedAt: 2025-11-19 18:00:02 -0500 (Wed, 19 Nov 2025) EllapsedTime: 5.1 seconds RetCode: 0 Status: OK PackageFile: treeio_1.35.0.tar.gz PackageFileSize: 678.8 KiB