Package: treeio Version: 1.35.0 Command: /Library/Frameworks/R.framework/Resources/bin/R CMD INSTALL treeio StartedAt: 2025-11-19 15:07:00 -0500 (Wed, 19 Nov 2025) EndedAt: 2025-11-19 15:07:05 -0500 (Wed, 19 Nov 2025) EllapsedTime: 4.4 seconds RetCode: 0 Status: OK