Package: treeio Version: 1.35.0 Command: rm -rf treeio.buildbin-libdir && mkdir treeio.buildbin-libdir && /Users/biocbuild/BBS/utils/build-universal.sh treeio_1.35.0.tar.gz /Library/Frameworks/R.framework/Resources/bin/R treeio.buildbin-libdir StartedAt: 2025-11-20 02:01:42 -0500 (Thu, 20 Nov 2025) EndedAt: 2025-11-20 02:01:56 -0500 (Thu, 20 Nov 2025) EllapsedTime: 13.9 seconds RetCode: 0 Status: OK PackageFile: treeio_1.35.0.tgz PackageFileSize: 911.8 KiB