Package: treekoR Version: 1.19.0 Command: /Library/Frameworks/R.framework/Resources/bin/R CMD build --keep-empty-dirs --no-resave-data treekoR StartedAt: 2025-11-18 18:09:57 -0500 (Tue, 18 Nov 2025) EndedAt: 2025-11-18 18:10:37 -0500 (Tue, 18 Nov 2025) EllapsedTime: 40.5 seconds RetCode: 0 Status: OK PackageFile: treekoR_1.19.0.tar.gz PackageFileSize: 1.707 MiB