Package: treekoR Version: 1.19.0 Command: rm -rf treekoR.buildbin-libdir && mkdir treekoR.buildbin-libdir && /Users/biocbuild/BBS/utils/build-universal.sh treekoR_1.19.0.tar.gz /Library/Frameworks/R.framework/Resources/bin/R treekoR.buildbin-libdir StartedAt: 2025-11-19 01:57:37 -0500 (Wed, 19 Nov 2025) EndedAt: 2025-11-19 01:58:29 -0500 (Wed, 19 Nov 2025) EllapsedTime: 51.8 seconds RetCode: 0 Status: OK PackageFile: treekoR_1.19.0.tgz PackageFileSize: 1.78 MiB