Package: treekoR Version: 1.19.0 Command: /Library/Frameworks/R.framework/Resources/bin/R CMD build --keep-empty-dirs --no-resave-data treekoR StartedAt: 2025-11-18 19:01:36 -0500 (Tue, 18 Nov 2025) EndedAt: 2025-11-18 19:03:15 -0500 (Tue, 18 Nov 2025) EllapsedTime: 99.4 seconds RetCode: 0 Status: OK PackageFile: treekoR_1.19.0.tar.gz PackageFileSize: 1.707 MiB