Package: treekoR Version: 1.19.0 Command: /home/biocbuild/bbs-3.23-bioc/R/bin/R CMD INSTALL treekoR StartedAt: 2025-11-18 16:16:17 -0500 (Tue, 18 Nov 2025) EndedAt: 2025-11-18 16:17:02 -0500 (Tue, 18 Nov 2025) EllapsedTime: 44.1 seconds RetCode: 0 Status: OK