Package: updateObject Version: 1.15.0 Command: /Library/Frameworks/R.framework/Resources/bin/R CMD build --keep-empty-dirs --no-resave-data updateObject StartedAt: 2025-11-19 18:02:55 -0500 (Wed, 19 Nov 2025) EndedAt: 2025-11-19 18:03:06 -0500 (Wed, 19 Nov 2025) EllapsedTime: 11.1 seconds RetCode: 0 Status: OK PackageFile: updateObject_1.15.0.tar.gz PackageFileSize: 1.289 MiB